BEGIN:VCALENDAR
VERSION:2.0
PRODID:-//Alabama Community College System - ECPv6.15.10//NONSGML v1.0//EN
CALSCALE:GREGORIAN
METHOD:PUBLISH
X-WR-CALNAME:Alabama Community College System
X-ORIGINAL-URL:https://www.accs.edu
X-WR-CALDESC:Events for Alabama Community College System
REFRESH-INTERVAL;VALUE=DURATION:PT1H
X-Robots-Tag:noindex
X-PUBLISHED-TTL:PT1H
BEGIN:VTIMEZONE
TZID:UTC
BEGIN:STANDARD
TZOFFSETFROM:+0000
TZOFFSETTO:+0000
TZNAME:UTC
DTSTART:20180101T000000
END:STANDARD
END:VTIMEZONE
BEGIN:VEVENT
DTSTART;TZID=UTC:20190215T080000
DTEND;TZID=UTC:20190228T170000
DTSTAMP:20260421T144447
CREATED:20190207T021219Z
LAST-MODIFIED:20190214T004126Z
UID:1921-1550217600-1551373200@www.accs.edu
SUMMARY:Celebrate Jazz
DESCRIPTION:The Evelyn Burrow Museum at Wallace State Community College\, Hanceville\, will present “Celebrate Jazz” with a special exhibit on Monday through Saturday beginning Feb. 15\, 2019\, featuring posters of jazz legends. The posters will be displayed in the Exhibit Hall of the Burrow Center for the Fine and Performing Arts. \n 
URL:https://www.accs.edu/event/celebrate-jazz/
LOCATION:The Evelyn Burrow Museum\, Wallace State Community College
CATEGORIES:Community
ATTACH;FMTTYPE=image/png:https://www.accs.edu/wp-content/uploads/2019/02/Wallace-State-Logo.png
ORGANIZER;CN="The Evelyn Burrow Museum":MAILTO:burrowmuseum@wallacestate.edu
END:VEVENT
BEGIN:VEVENT
DTSTART;TZID=UTC:20190215T193000
DTEND;TZID=UTC:20190224T220000
DTSTAMP:20260421T144447
CREATED:20190212T025504Z
LAST-MODIFIED:20190214T004116Z
UID:2414-1550259000-1551045600@www.accs.edu
SUMMARY:Shelton State and Theatre Tuscaloosa Present Crowns: A Gospel Musical
DESCRIPTION:In celebration of Black History Month\, Theatre Tuscaloosa presents “Crowns: A Gospel Musical” February 15-24\, 2019\, in the Bean-Brown Theatre on the Martin Campus of Shelton State Community College.
URL:https://www.accs.edu/event/shelton-state-and-theatre-tuscaloosa-present-crowns-a-gospel-musical/
LOCATION:Shelton State Community College Martin Campus Bean-Brown Theatre\, 9500 Old Greensboro Road\, Tuscaloosa\, 35401
ATTACH;FMTTYPE=image/jpeg:https://www.accs.edu/wp-content/uploads/2019/02/crowns-sscc-news.jpg
ORGANIZER;CN="Shelton State Community College":MAILTO:mediacom@sheltonstate.edu
END:VEVENT
BEGIN:VEVENT
DTSTART;TZID=UTC:20190215T080000
DTEND;TZID=UTC:20190228T170000
DTSTAMP:20260421T144447
CREATED:20190207T021219Z
LAST-MODIFIED:20190214T004126Z
UID:1921-1550217600-1551373200@www.accs.edu
SUMMARY:Celebrate Jazz
DESCRIPTION:The Evelyn Burrow Museum at Wallace State Community College\, Hanceville\, will present “Celebrate Jazz” with a special exhibit on Monday through Saturday beginning Feb. 15\, 2019\, featuring posters of jazz legends. The posters will be displayed in the Exhibit Hall of the Burrow Center for the Fine and Performing Arts. \n 
URL:https://www.accs.edu/event/celebrate-jazz/
LOCATION:The Evelyn Burrow Museum\, Wallace State Community College
CATEGORIES:Community
ATTACH;FMTTYPE=image/png:https://www.accs.edu/wp-content/uploads/2019/02/Wallace-State-Logo.png
ORGANIZER;CN="The Evelyn Burrow Museum":MAILTO:burrowmuseum@wallacestate.edu
END:VEVENT
BEGIN:VEVENT
DTSTART;VALUE=DATE:20190218
DTEND;VALUE=DATE:20190403
DTSTAMP:20260421T144447
CREATED:20190212T025112Z
LAST-MODIFIED:20190214T004116Z
UID:2409-1550448000-1554249599@www.accs.edu
SUMMARY:Shelton State Flora and Java Art Show
DESCRIPTION:Shelton State Community College’s Visual Arts Department will present former student Yazmyn Rozier’s first solo exhibition.
URL:https://www.accs.edu/event/shelton-state-flora-and-java-art-show/
LOCATION:Shelton State Community College Martin Campus Cadence Bank Art Gallery\, 9500 Old Greensboro Road\, Tuscaloosa\, AL\, 35405
ATTACH;FMTTYPE=image/png:https://www.accs.edu/wp-content/uploads/2019/02/Flora-Java-1.png
ORGANIZER;CN="Shelton State Community College":MAILTO:mediacom@sheltonstate.edu
END:VEVENT
BEGIN:VEVENT
DTSTART;VALUE=DATE:20190218
DTEND;VALUE=DATE:20190403
DTSTAMP:20260421T144447
CREATED:20191114T165247Z
LAST-MODIFIED:20191114T165247Z
UID:1819-1550448000-1554249599@www.accs.edu
SUMMARY:Shelton State Flora & Java Art Show
DESCRIPTION:The Flora& Java Art Show is a solo art show featuring the work of Shelton State Community College student Yazmyn Rozier. \nEvent image is the work of the Yazmyn Rozier.
URL:https://www.accs.edu/event/shelton-state-flora-java-art-show/
LOCATION:Shelton State Community College Martin Campus Cadence Bank Art Gallery\, 9500 Old Greensboro Road\, Tuscaloosa\, AL\, 35405
ATTACH;FMTTYPE=image/png:https://www.accs.edu/wp-content/uploads/2019/02/Flora-Java.png
END:VEVENT
BEGIN:VEVENT
DTSTART;TZID=UTC:20190215T080000
DTEND;TZID=UTC:20190228T170000
DTSTAMP:20260421T144447
CREATED:20190207T021219Z
LAST-MODIFIED:20190214T004126Z
UID:1921-1550217600-1551373200@www.accs.edu
SUMMARY:Celebrate Jazz
DESCRIPTION:The Evelyn Burrow Museum at Wallace State Community College\, Hanceville\, will present “Celebrate Jazz” with a special exhibit on Monday through Saturday beginning Feb. 15\, 2019\, featuring posters of jazz legends. The posters will be displayed in the Exhibit Hall of the Burrow Center for the Fine and Performing Arts. \n 
URL:https://www.accs.edu/event/celebrate-jazz/
LOCATION:The Evelyn Burrow Museum\, Wallace State Community College
CATEGORIES:Community
ATTACH;FMTTYPE=image/png:https://www.accs.edu/wp-content/uploads/2019/02/Wallace-State-Logo.png
ORGANIZER;CN="The Evelyn Burrow Museum":MAILTO:burrowmuseum@wallacestate.edu
END:VEVENT
BEGIN:VEVENT
DTSTART;TZID=UTC:20190215T080000
DTEND;TZID=UTC:20190228T170000
DTSTAMP:20260421T144447
CREATED:20190207T021219Z
LAST-MODIFIED:20190214T004126Z
UID:1921-1550217600-1551373200@www.accs.edu
SUMMARY:Celebrate Jazz
DESCRIPTION:The Evelyn Burrow Museum at Wallace State Community College\, Hanceville\, will present “Celebrate Jazz” with a special exhibit on Monday through Saturday beginning Feb. 15\, 2019\, featuring posters of jazz legends. The posters will be displayed in the Exhibit Hall of the Burrow Center for the Fine and Performing Arts. \n 
URL:https://www.accs.edu/event/celebrate-jazz/
LOCATION:The Evelyn Burrow Museum\, Wallace State Community College
CATEGORIES:Community
ATTACH;FMTTYPE=image/png:https://www.accs.edu/wp-content/uploads/2019/02/Wallace-State-Logo.png
ORGANIZER;CN="The Evelyn Burrow Museum":MAILTO:burrowmuseum@wallacestate.edu
END:VEVENT
BEGIN:VEVENT
DTSTART;TZID=UTC:20190215T080000
DTEND;TZID=UTC:20190228T170000
DTSTAMP:20260421T144447
CREATED:20190207T021219Z
LAST-MODIFIED:20190214T004126Z
UID:1921-1550217600-1551373200@www.accs.edu
SUMMARY:Celebrate Jazz
DESCRIPTION:The Evelyn Burrow Museum at Wallace State Community College\, Hanceville\, will present “Celebrate Jazz” with a special exhibit on Monday through Saturday beginning Feb. 15\, 2019\, featuring posters of jazz legends. The posters will be displayed in the Exhibit Hall of the Burrow Center for the Fine and Performing Arts. \n 
URL:https://www.accs.edu/event/celebrate-jazz/
LOCATION:The Evelyn Burrow Museum\, Wallace State Community College
CATEGORIES:Community
ATTACH;FMTTYPE=image/png:https://www.accs.edu/wp-content/uploads/2019/02/Wallace-State-Logo.png
ORGANIZER;CN="The Evelyn Burrow Museum":MAILTO:burrowmuseum@wallacestate.edu
END:VEVENT
BEGIN:VEVENT
DTSTART;TZID=UTC:20190215T080000
DTEND;TZID=UTC:20190228T170000
DTSTAMP:20260421T144447
CREATED:20190207T021219Z
LAST-MODIFIED:20190214T004126Z
UID:1921-1550217600-1551373200@www.accs.edu
SUMMARY:Celebrate Jazz
DESCRIPTION:The Evelyn Burrow Museum at Wallace State Community College\, Hanceville\, will present “Celebrate Jazz” with a special exhibit on Monday through Saturday beginning Feb. 15\, 2019\, featuring posters of jazz legends. The posters will be displayed in the Exhibit Hall of the Burrow Center for the Fine and Performing Arts. \n 
URL:https://www.accs.edu/event/celebrate-jazz/
LOCATION:The Evelyn Burrow Museum\, Wallace State Community College
CATEGORIES:Community
ATTACH;FMTTYPE=image/png:https://www.accs.edu/wp-content/uploads/2019/02/Wallace-State-Logo.png
ORGANIZER;CN="The Evelyn Burrow Museum":MAILTO:burrowmuseum@wallacestate.edu
END:VEVENT
BEGIN:VEVENT
DTSTART;TZID=UTC:20190215T080000
DTEND;TZID=UTC:20190228T170000
DTSTAMP:20260421T144447
CREATED:20190207T021219Z
LAST-MODIFIED:20190214T004126Z
UID:1921-1550217600-1551373200@www.accs.edu
SUMMARY:Celebrate Jazz
DESCRIPTION:The Evelyn Burrow Museum at Wallace State Community College\, Hanceville\, will present “Celebrate Jazz” with a special exhibit on Monday through Saturday beginning Feb. 15\, 2019\, featuring posters of jazz legends. The posters will be displayed in the Exhibit Hall of the Burrow Center for the Fine and Performing Arts. \n 
URL:https://www.accs.edu/event/celebrate-jazz/
LOCATION:The Evelyn Burrow Museum\, Wallace State Community College
CATEGORIES:Community
ATTACH;FMTTYPE=image/png:https://www.accs.edu/wp-content/uploads/2019/02/Wallace-State-Logo.png
ORGANIZER;CN="The Evelyn Burrow Museum":MAILTO:burrowmuseum@wallacestate.edu
END:VEVENT
BEGIN:VEVENT
DTSTART;TZID=UTC:20190215T080000
DTEND;TZID=UTC:20190228T170000
DTSTAMP:20260421T144447
CREATED:20190207T021219Z
LAST-MODIFIED:20190214T004126Z
UID:1921-1550217600-1551373200@www.accs.edu
SUMMARY:Celebrate Jazz
DESCRIPTION:The Evelyn Burrow Museum at Wallace State Community College\, Hanceville\, will present “Celebrate Jazz” with a special exhibit on Monday through Saturday beginning Feb. 15\, 2019\, featuring posters of jazz legends. The posters will be displayed in the Exhibit Hall of the Burrow Center for the Fine and Performing Arts. \n 
URL:https://www.accs.edu/event/celebrate-jazz/
LOCATION:The Evelyn Burrow Museum\, Wallace State Community College
CATEGORIES:Community
ATTACH;FMTTYPE=image/png:https://www.accs.edu/wp-content/uploads/2019/02/Wallace-State-Logo.png
ORGANIZER;CN="The Evelyn Burrow Museum":MAILTO:burrowmuseum@wallacestate.edu
END:VEVENT
BEGIN:VEVENT
DTSTART;TZID=UTC:20190224T150000
DTEND;TZID=UTC:20190224T163000
DTSTAMP:20260421T144447
CREATED:20190219T225654Z
LAST-MODIFIED:20190219T225654Z
UID:2533-1551020400-1551025800@www.accs.edu
SUMMARY:SHELTON STATE COMMUNITY COLLEGE'S SHELTON SINGERS PRESENT FREE CONCERT
DESCRIPTION:In honor of Black History Month\, Shelton State Community College’s Shelton Singers will present a concert of African American spirituals.
URL:https://www.accs.edu/event/shelton-state-community-colleges-shelton-singers-present-free-concert/
LOCATION:First United Methodist Church Tuscaloosa
ATTACH;FMTTYPE=image/png:https://www.accs.edu/wp-content/uploads/2019/02/Music-Events.png
ORGANIZER;CN="Shelton State Community College":MAILTO:mediacom@sheltonstate.edu
END:VEVENT
END:VCALENDAR