BEGIN:VCALENDAR
VERSION:2.0
PRODID:-//Alabama Community College System - ECPv6.15.20//NONSGML v1.0//EN
CALSCALE:GREGORIAN
METHOD:PUBLISH
X-ORIGINAL-URL:https://www.accs.edu
X-WR-CALDESC:Events for Alabama Community College System
REFRESH-INTERVAL;VALUE=DURATION:PT1H
X-Robots-Tag:noindex
X-PUBLISHED-TTL:PT1H
BEGIN:VTIMEZONE
TZID:UTC
BEGIN:STANDARD
TZOFFSETFROM:+0000
TZOFFSETTO:+0000
TZNAME:UTC
DTSTART:20180101T000000
END:STANDARD
END:VTIMEZONE
BEGIN:VEVENT
DTSTART;TZID=UTC:20190418T090000
DTEND;TZID=UTC:20190418T170000
DTSTAMP:20260422T164029
CREATED:20190425T214922Z
LAST-MODIFIED:20190425T214922Z
UID:4687-1555578000-1555606800@www.accs.edu
SUMMARY:Illuminations: Art That Makes the Spirit Soar
DESCRIPTION:The Evelyn Burrow Museum at Wallace State Community College announces the opening of “Illuminations: Art that Makes the Spirit Soar.” \nThe collection features illuminated manuscripts and other works of devotion from the Renaissance to modern day from the Birmingham Museum of Art\, St. Bernard Abbey\, Sacred Heart\, private collections and the Burrow Museum’s permanent collection. Included in the exhibition are illuminated manuscripts\, some more than 500 years old\, as well as stained glass\, textiles\, paintings\, relics and other works. \nThe exhibit will be on display through May 31. The Evelyn Burrow Museum is open Tuesday-Friday\, 9 a.m. to 5 p.m.\, and Saturday\, 10 a.m. to 2 p.m.\nCall 256.352.8547 or visit www.burrowmuseum.org for more information.
URL:https://www.accs.edu/event/illuminations-art-that-makes-the-spirit-soar/
LOCATION:The Evelyn Burrow Museum\, Wallace State Community College
ATTACH;FMTTYPE=:
ORGANIZER;CN="The Evelyn Burrow Museum":MAILTO:burrowmuseum@wallacestate.edu
END:VEVENT
BEGIN:VEVENT
DTSTART;TZID=UTC:20190511T190000
DTEND;TZID=UTC:20190511T210000
DTSTAMP:20260422T164029
CREATED:20190220T022017Z
LAST-MODIFIED:20190220T022017Z
UID:2579-1557601200-1557608400@www.accs.edu
SUMMARY:'JUNIE B. JONES JR.'
DESCRIPTION:CharACTers & GSCC present ‘JUNIE B. JONES JR.’\, 7 pm
URL:https://www.accs.edu/event/junie-b-jones-jr/
LOCATION:Wallace Hall Fine Arts Center\, 1001 George Wallace Dr\,\, Gadsden\, AL\, AL\, 35903\, United States
CATEGORIES:Community
ATTACH;FMTTYPE=image/png:https://www.accs.edu/wp-content/uploads/2019/02/GSCC_swoosh_hz-14.png
ORGANIZER;CN="Gadsden State Community College":MAILTO:jedmondson@gadsdenstate.edu
END:VEVENT
END:VCALENDAR