BEGIN:VCALENDAR
VERSION:2.0
PRODID:-//Alabama Community College System - ECPv6.15.10//NONSGML v1.0//EN
CALSCALE:GREGORIAN
METHOD:PUBLISH
X-WR-CALNAME:Alabama Community College System
X-ORIGINAL-URL:https://www.accs.edu
X-WR-CALDESC:Events for Alabama Community College System
REFRESH-INTERVAL;VALUE=DURATION:PT1H
X-Robots-Tag:noindex
X-PUBLISHED-TTL:PT1H
BEGIN:VTIMEZONE
TZID:UTC
BEGIN:STANDARD
TZOFFSETFROM:+0000
TZOFFSETTO:+0000
TZNAME:UTC
DTSTART:20170101T000000
END:STANDARD
END:VTIMEZONE
BEGIN:VEVENT
DTSTART;TZID=UTC:20190207T123000
DTEND;TZID=UTC:20190207T130000
DTSTAMP:20260421T111222
CREATED:20191114T165306Z
LAST-MODIFIED:20191114T165306Z
UID:1856-1549542600-1549544400@www.accs.edu
SUMMARY:Lunch & Learn
DESCRIPTION:Wallace State Student Engagement will host a Lunch & Learn session at 12:30 p.m.\, on Thursday\, Feb. 7\, in the cafe/lobby area of the School of Nursing and Center for Science. The topic for this event will be “Ethics Among the College Student” and will be led by Ethics instructor Jeremy Wilt.
URL:https://www.accs.edu/event/lunch-learn/
LOCATION:Wallace State Community College\, Hanceville\, 801 Main St. NW\, Hanceville\, 35077
CATEGORIES:Student Events
ORGANIZER;CN="Wallace State Community College":MAILTO:kristen.holmes@wallacestate.edu
END:VEVENT
BEGIN:VEVENT
DTSTART;TZID=UTC:20190206T110000
DTEND;TZID=UTC:20190206T123000
DTSTAMP:20260421T111222
CREATED:20191114T165307Z
LAST-MODIFIED:20191114T165307Z
UID:1848-1549450800-1549456200@www.accs.edu
SUMMARY:Black History Month Film Series
DESCRIPTION:A film series celebrating Black History month\, featuring “The Children’s March” on Feb. 6\, “A Time for Justice” on Feb. 14\, and “Forgotten Ellis Island” on Feb. 26. Each film will be shown at 11 a.m. in the James C. Bailey Center Auditorium
URL:https://www.accs.edu/event/black-history-month-film-series/
LOCATION:Wallace State Community College\, Hanceville\, 801 Main St. NW\, Hanceville\, 35077
CATEGORIES:Student Events
ATTACH;FMTTYPE=image/jpeg:https://www.accs.edu/wp-content/uploads/2019/02/Black-History-Month-Video-Series.jpg
ORGANIZER;CN="Wallace State Community College":MAILTO:kristen.holmes@wallacestate.edu
END:VEVENT
BEGIN:VEVENT
DTSTART;TZID=UTC:20190109T104500
DTEND;TZID=UTC:20190109T104500
DTSTAMP:20260421T111222
CREATED:20190122T205243Z
LAST-MODIFIED:20190329T195030Z
UID:1378-1547030700-1547030700@www.accs.edu
SUMMARY:Work Session
DESCRIPTION:
URL:https://www.accs.edu/event/board-of-trustees-work-session-jan/
LOCATION:Alabama Community College System Center\, 135 South Union Street\, Montgomery\, AL 36104
CATEGORIES:Board of Trustees,Work Sessions
ATTACH;FMTTYPE=image/jpeg:https://www.accs.edu/wp-content/uploads/2019/01/ACCSBoardofTrusteesSeal.jpg
END:VEVENT
BEGIN:VEVENT
DTSTART;TZID=UTC:20190109T100000
DTEND;TZID=UTC:20190109T104500
DTSTAMP:20260421T111222
CREATED:20190122T205140Z
LAST-MODIFIED:20190329T195038Z
UID:1377-1547028000-1547030700@www.accs.edu
SUMMARY:Board of Trustees Board Meeting
DESCRIPTION:
URL:https://www.accs.edu/event/board-of-trustees-board-meeting-jan/
LOCATION:Alabama Community College System Center\, 135 South Union Street\, Montgomery\, AL 36104
CATEGORIES:Board of Trustees,Meetings
ATTACH;FMTTYPE=image/jpeg:https://www.accs.edu/wp-content/uploads/2019/01/ACCSBoardofTrusteesSeal.jpg
END:VEVENT
BEGIN:VEVENT
DTSTART;TZID=UTC:20181010T104500
DTEND;TZID=UTC:20181010T104500
DTSTAMP:20260421T111222
CREATED:20180926T035358Z
LAST-MODIFIED:20190329T195316Z
UID:793-1539168300-1539168300@www.accs.edu
SUMMARY:Work Session
DESCRIPTION:
URL:https://www.accs.edu/event/work-session/
LOCATION:Alabama Community College System Center\, 135 South Union Street\, Montgomery\, AL 36104
CATEGORIES:Board of Trustees,Work Sessions
ATTACH;FMTTYPE=:
END:VEVENT
BEGIN:VEVENT
DTSTART;TZID=UTC:20181010T100000
DTEND;TZID=UTC:20181010T100000
DTSTAMP:20260421T111222
CREATED:20180926T034546Z
LAST-MODIFIED:20190329T195215Z
UID:790-1539165600-1539165600@www.accs.edu
SUMMARY:Board of Trustees Meeting
DESCRIPTION:
URL:https://www.accs.edu/event/board-of-trustees-meeting/
LOCATION:Alabama Community College System Center\, 135 South Union Street\, Montgomery\, AL 36104
CATEGORIES:Board of Trustees,Meetings
ATTACH;FMTTYPE=image/jpeg:https://www.accs.edu/wp-content/uploads/2018/09/event.jpg
END:VEVENT
BEGIN:VEVENT
DTSTART;TZID=UTC:20181010T104500
DTEND;TZID=UTC:20181010T104500
DTSTAMP:20260421T111222
CREATED:20180926T035358Z
LAST-MODIFIED:20190329T195316Z
UID:793-1539168300-1539168300@www.accs.edu
SUMMARY:Work Session
DESCRIPTION:
URL:https://www.accs.edu/event/work-session/
LOCATION:Alabama Community College System Center\, 135 South Union Street\, Montgomery\, AL 36104
CATEGORIES:Board of Trustees,Work Sessions
ATTACH;FMTTYPE=:
END:VEVENT
BEGIN:VEVENT
DTSTART;TZID=UTC:20181010T100000
DTEND;TZID=UTC:20181010T100000
DTSTAMP:20260421T111222
CREATED:20180926T034546Z
LAST-MODIFIED:20190329T195215Z
UID:790-1539165600-1539165600@www.accs.edu
SUMMARY:Board of Trustees Meeting
DESCRIPTION:
URL:https://www.accs.edu/event/board-of-trustees-meeting/
LOCATION:Alabama Community College System Center\, 135 South Union Street\, Montgomery\, AL 36104
CATEGORIES:Board of Trustees,Meetings
ATTACH;FMTTYPE=image/jpeg:https://www.accs.edu/wp-content/uploads/2018/09/event.jpg
END:VEVENT
BEGIN:VEVENT
DTSTART;TZID=UTC:20181010T104500
DTEND;TZID=UTC:20181010T104500
DTSTAMP:20260421T111222
CREATED:20180926T035358Z
LAST-MODIFIED:20190329T195316Z
UID:793-1539168300-1539168300@www.accs.edu
SUMMARY:Work Session
DESCRIPTION:
URL:https://www.accs.edu/event/work-session/
LOCATION:Alabama Community College System Center\, 135 South Union Street\, Montgomery\, AL 36104
CATEGORIES:Board of Trustees,Work Sessions
ATTACH;FMTTYPE=:
END:VEVENT
BEGIN:VEVENT
DTSTART;TZID=UTC:20181010T100000
DTEND;TZID=UTC:20181010T100000
DTSTAMP:20260421T111222
CREATED:20180926T034546Z
LAST-MODIFIED:20190329T195215Z
UID:790-1539165600-1539165600@www.accs.edu
SUMMARY:Board of Trustees Meeting
DESCRIPTION:
URL:https://www.accs.edu/event/board-of-trustees-meeting/
LOCATION:Alabama Community College System Center\, 135 South Union Street\, Montgomery\, AL 36104
CATEGORIES:Board of Trustees,Meetings
ATTACH;FMTTYPE=image/jpeg:https://www.accs.edu/wp-content/uploads/2018/09/event.jpg
END:VEVENT
BEGIN:VEVENT
DTSTART;TZID=UTC:20180925T080000
DTEND;TZID=UTC:20180925T170000
DTSTAMP:20260421T111222
CREATED:20180925T202313Z
LAST-MODIFIED:20191114T165252Z
UID:763-1537862400-1537894800@www.accs.edu
SUMMARY:Demo
DESCRIPTION:
URL:https://www.accs.edu/event/demo/
LOCATION:Alabama Community College System Center\, 135 South Union Street\, Montgomery\, AL 36104
CATEGORIES:Board of Trustees
END:VEVENT
END:VCALENDAR