BEGIN:VCALENDAR
VERSION:2.0
PRODID:-//Alabama Community College System - ECPv6.15.10//NONSGML v1.0//EN
CALSCALE:GREGORIAN
METHOD:PUBLISH
X-WR-CALNAME:Alabama Community College System
X-ORIGINAL-URL:https://www.accs.edu
X-WR-CALDESC:Events for Alabama Community College System
REFRESH-INTERVAL;VALUE=DURATION:PT1H
X-Robots-Tag:noindex
X-PUBLISHED-TTL:PT1H
BEGIN:VTIMEZONE
TZID:America/New_York
BEGIN:DAYLIGHT
TZOFFSETFROM:-0500
TZOFFSETTO:-0400
TZNAME:EDT
DTSTART:20180311T070000
END:DAYLIGHT
BEGIN:STANDARD
TZOFFSETFROM:-0400
TZOFFSETTO:-0500
TZNAME:EST
DTSTART:20181104T060000
END:STANDARD
BEGIN:DAYLIGHT
TZOFFSETFROM:-0500
TZOFFSETTO:-0400
TZNAME:EDT
DTSTART:20190310T070000
END:DAYLIGHT
BEGIN:STANDARD
TZOFFSETFROM:-0400
TZOFFSETTO:-0500
TZNAME:EST
DTSTART:20191103T060000
END:STANDARD
BEGIN:DAYLIGHT
TZOFFSETFROM:-0500
TZOFFSETTO:-0400
TZNAME:EDT
DTSTART:20200308T070000
END:DAYLIGHT
BEGIN:STANDARD
TZOFFSETFROM:-0400
TZOFFSETTO:-0500
TZNAME:EST
DTSTART:20201101T060000
END:STANDARD
BEGIN:DAYLIGHT
TZOFFSETFROM:-0500
TZOFFSETTO:-0400
TZNAME:EDT
DTSTART:20210314T070000
END:DAYLIGHT
BEGIN:STANDARD
TZOFFSETFROM:-0400
TZOFFSETTO:-0500
TZNAME:EST
DTSTART:20211107T060000
END:STANDARD
END:VTIMEZONE
BEGIN:VTIMEZONE
TZID:UTC
BEGIN:STANDARD
TZOFFSETFROM:+0000
TZOFFSETTO:+0000
TZNAME:UTC
DTSTART:20180101T000000
END:STANDARD
END:VTIMEZONE
BEGIN:VEVENT
DTSTART;TZID=America/New_York:20200212T080000
DTEND;TZID=America/New_York:20200227T170000
DTSTAMP:20260422T131913
CREATED:20200213T175538Z
LAST-MODIFIED:20200213T175538Z
UID:56832-1581494400-1582822800@www.accs.edu
SUMMARY:CONNECTING THE HEART AND MIND
DESCRIPTION:We Appreciate You:  Students are invited to visit their campus Cardinal Tutoring Center during the month of February and receive a token of appreciation from the staff.  Wallace Drive Campus-Inzer Student Center Monday & Wednesday 8 am-4:30 pm or Tuesday & Thursday 8 am-5 pm; Ayers Campus Student Services Area Monday-Thursday 9 am – 5 pm; Cherokee Center Monday-Thursday 10 am – 4:30 pm.
URL:https://www.accs.edu/event/connecting-the-heart-and-mind/
LOCATION:Gadsden State Community College\, 1001 George Wallace Drive\, Gadsden\, 35903
ATTACH;FMTTYPE=image/jpeg:https://www.accs.edu/wp-content/uploads/2020/02/CTC-Feb20.jpg
ORGANIZER;CN="Gadsden State Community College":MAILTO:jedmondson@gadsdenstate.edu
END:VEVENT
BEGIN:VEVENT
DTSTART;TZID=America/New_York:20191025T190000
DTEND;TZID=America/New_York:20191025T210000
DTSTAMP:20260422T131913
CREATED:20191114T165152Z
LAST-MODIFIED:20191114T165152Z
UID:31571-1572030000-1572037200@www.accs.edu
SUMMARY:Theatre Presents: Sherwood - The Adventures of Robin Hood
DESCRIPTION:For more information please contact Lauren Salerno\, 256.352.8422.
URL:https://www.accs.edu/event/theatre-presents-sherwood-the-adventures-of-robin-hood/
LOCATION:Wallace State Community College – Betty Leeth Haynes Theatre
CATEGORIES:Community,Student Events
ATTACH;FMTTYPE=image/png:https://www.accs.edu/wp-content/uploads/2019/10/lion_transparent-dark-bluel.png
ORGANIZER;CN="Wallace State Community College":MAILTO:kristen.holmes@wallacestate.edu
END:VEVENT
BEGIN:VEVENT
DTSTART;TZID=America/New_York:20200212T080000
DTEND;TZID=America/New_York:20200227T170000
DTSTAMP:20260422T131913
CREATED:20200213T175538Z
LAST-MODIFIED:20200213T175538Z
UID:56832-1581494400-1582822800@www.accs.edu
SUMMARY:CONNECTING THE HEART AND MIND
DESCRIPTION:We Appreciate You:  Students are invited to visit their campus Cardinal Tutoring Center during the month of February and receive a token of appreciation from the staff.  Wallace Drive Campus-Inzer Student Center Monday & Wednesday 8 am-4:30 pm or Tuesday & Thursday 8 am-5 pm; Ayers Campus Student Services Area Monday-Thursday 9 am – 5 pm; Cherokee Center Monday-Thursday 10 am – 4:30 pm.
URL:https://www.accs.edu/event/connecting-the-heart-and-mind/
LOCATION:Gadsden State Community College\, 1001 George Wallace Drive\, Gadsden\, 35903
ATTACH;FMTTYPE=image/jpeg:https://www.accs.edu/wp-content/uploads/2020/02/CTC-Feb20.jpg
ORGANIZER;CN="Gadsden State Community College":MAILTO:jedmondson@gadsdenstate.edu
END:VEVENT
BEGIN:VEVENT
DTSTART;TZID=America/New_York:20191106T080000
DTEND;TZID=America/New_York:20191106T170000
DTSTAMP:20260422T131913
CREATED:20191114T164956Z
LAST-MODIFIED:20191114T164956Z
UID:34788-1573027200-1573059600@www.accs.edu
SUMMARY:Cardinal Tutoring Center
DESCRIPTION:Cardinal Tutoring Center:  8 am – 5 pm\, Monday thru Thursday. Support offered by Advisement Resource Center\, TRiO\, Student Support Services and the Teaching & Learning Center.
URL:https://www.accs.edu/event/cardinal-tutoring-center/
LOCATION:Gadsden State Inzer Student Center\, 1001 George Wallace Drive\, Gadsden\, 35903
CATEGORIES:Student Events
ATTACH;FMTTYPE=image/jpeg:https://www.accs.edu/wp-content/uploads/2019/11/Cardinal-Tutoring-Center.jpg
ORGANIZER;CN="Gadsden State Community College":MAILTO:jedmondson@gadsdenstate.edu
END:VEVENT
BEGIN:VEVENT
DTSTART;VALUE=DATE:20190305
DTEND;VALUE=DATE:20190306
DTSTAMP:20260422T131913
CREATED:20190207T023853Z
LAST-MODIFIED:20190214T004126Z
UID:1920-1551744000-1551830399@www.accs.edu
SUMMARY:ACCC Basketball Tournament
DESCRIPTION:Lawson State will host for the third year\, the ACCC Basketball Tournament being held March 5-8\, 2019.
URL:https://www.accs.edu/event/accc-basketball-tournament/
LOCATION:Lawson State Community College-Birmingham Campus\, Arthur Shores Fine Arts Building\, 3060 Wilson Road\, S.W.\, Birmingham\, 35221
CATEGORIES:Sports
ATTACH;FMTTYPE=:
ORGANIZER;CN="Lawson State Community College":MAILTO:InfoRequest@lscc.edu
END:VEVENT
BEGIN:VEVENT
DTSTART;TZID=America/New_York:20191025T190000
DTEND;TZID=America/New_York:20191025T210000
DTSTAMP:20260422T131913
CREATED:20191114T165152Z
LAST-MODIFIED:20191114T165152Z
UID:31571-1572030000-1572037200@www.accs.edu
SUMMARY:Theatre Presents: Sherwood - The Adventures of Robin Hood
DESCRIPTION:For more information please contact Lauren Salerno\, 256.352.8422.
URL:https://www.accs.edu/event/theatre-presents-sherwood-the-adventures-of-robin-hood/
LOCATION:Wallace State Community College – Betty Leeth Haynes Theatre
CATEGORIES:Community,Student Events
ATTACH;FMTTYPE=image/png:https://www.accs.edu/wp-content/uploads/2019/10/lion_transparent-dark-bluel.png
ORGANIZER;CN="Wallace State Community College":MAILTO:kristen.holmes@wallacestate.edu
END:VEVENT
BEGIN:VEVENT
DTSTART;TZID=America/New_York:20200212T080000
DTEND;TZID=America/New_York:20200227T170000
DTSTAMP:20260422T131913
CREATED:20200213T175538Z
LAST-MODIFIED:20200213T175538Z
UID:56832-1581494400-1582822800@www.accs.edu
SUMMARY:CONNECTING THE HEART AND MIND
DESCRIPTION:We Appreciate You:  Students are invited to visit their campus Cardinal Tutoring Center during the month of February and receive a token of appreciation from the staff.  Wallace Drive Campus-Inzer Student Center Monday & Wednesday 8 am-4:30 pm or Tuesday & Thursday 8 am-5 pm; Ayers Campus Student Services Area Monday-Thursday 9 am – 5 pm; Cherokee Center Monday-Thursday 10 am – 4:30 pm.
URL:https://www.accs.edu/event/connecting-the-heart-and-mind/
LOCATION:Gadsden State Community College\, 1001 George Wallace Drive\, Gadsden\, 35903
ATTACH;FMTTYPE=image/jpeg:https://www.accs.edu/wp-content/uploads/2020/02/CTC-Feb20.jpg
ORGANIZER;CN="Gadsden State Community College":MAILTO:jedmondson@gadsdenstate.edu
END:VEVENT
BEGIN:VEVENT
DTSTART;TZID=America/New_York:20191106T080000
DTEND;TZID=America/New_York:20191106T170000
DTSTAMP:20260422T131913
CREATED:20191114T164956Z
LAST-MODIFIED:20191114T164956Z
UID:34788-1573027200-1573059600@www.accs.edu
SUMMARY:Cardinal Tutoring Center
DESCRIPTION:Cardinal Tutoring Center:  8 am – 5 pm\, Monday thru Thursday. Support offered by Advisement Resource Center\, TRiO\, Student Support Services and the Teaching & Learning Center.
URL:https://www.accs.edu/event/cardinal-tutoring-center/
LOCATION:Gadsden State Inzer Student Center\, 1001 George Wallace Drive\, Gadsden\, 35903
CATEGORIES:Student Events
ATTACH;FMTTYPE=image/jpeg:https://www.accs.edu/wp-content/uploads/2019/11/Cardinal-Tutoring-Center.jpg
ORGANIZER;CN="Gadsden State Community College":MAILTO:jedmondson@gadsdenstate.edu
END:VEVENT
BEGIN:VEVENT
DTSTART;TZID=UTC:20190219T080000
DTEND;TZID=UTC:20190219T170000
DTSTAMP:20260422T131913
CREATED:20190211T233436Z
LAST-MODIFIED:20190214T004126Z
UID:2307-1550563200-1550595600@www.accs.edu
SUMMARY:Fema Training
DESCRIPTION:Lawson State Nursing 202 and 203 students along with several faculty members will conduct FEMA training through the Center for Domestic Preparedness\, February 19th\, and 20th\, 2019.
URL:https://www.accs.edu/event/fema-training/
LOCATION:Lawson State Community College- Birmingham Campus\, 3060 Wilson Road\, S.W.\, Birmingham\, 35221
CATEGORIES:Community,Student Events
ATTACH;FMTTYPE=image/jpeg:https://www.accs.edu/wp-content/uploads/2019/01/Lawson-State-Button.jpg
ORGANIZER;CN="Lawson State Community College":MAILTO:InfoRequest@lscc.edu
END:VEVENT
BEGIN:VEVENT
DTSTART;VALUE=DATE:20190305
DTEND;VALUE=DATE:20190306
DTSTAMP:20260422T131913
CREATED:20190207T023853Z
LAST-MODIFIED:20190214T004126Z
UID:1920-1551744000-1551830399@www.accs.edu
SUMMARY:ACCC Basketball Tournament
DESCRIPTION:Lawson State will host for the third year\, the ACCC Basketball Tournament being held March 5-8\, 2019.
URL:https://www.accs.edu/event/accc-basketball-tournament/
LOCATION:Lawson State Community College-Birmingham Campus\, Arthur Shores Fine Arts Building\, 3060 Wilson Road\, S.W.\, Birmingham\, 35221
CATEGORIES:Sports
ATTACH;FMTTYPE=:
ORGANIZER;CN="Lawson State Community College":MAILTO:InfoRequest@lscc.edu
END:VEVENT
BEGIN:VEVENT
DTSTART;TZID=America/New_York:20191025T190000
DTEND;TZID=America/New_York:20191025T210000
DTSTAMP:20260422T131913
CREATED:20191114T165152Z
LAST-MODIFIED:20191114T165152Z
UID:31571-1572030000-1572037200@www.accs.edu
SUMMARY:Theatre Presents: Sherwood - The Adventures of Robin Hood
DESCRIPTION:For more information please contact Lauren Salerno\, 256.352.8422.
URL:https://www.accs.edu/event/theatre-presents-sherwood-the-adventures-of-robin-hood/
LOCATION:Wallace State Community College – Betty Leeth Haynes Theatre
CATEGORIES:Community,Student Events
ATTACH;FMTTYPE=image/png:https://www.accs.edu/wp-content/uploads/2019/10/lion_transparent-dark-bluel.png
ORGANIZER;CN="Wallace State Community College":MAILTO:kristen.holmes@wallacestate.edu
END:VEVENT
BEGIN:VEVENT
DTSTART;TZID=UTC:20190212T130000
DTEND;TZID=UTC:20190212T140000
DTSTAMP:20260422T131913
CREATED:20190212T025137Z
LAST-MODIFIED:20190213T214424Z
UID:2412-1549976400-1549980000@www.accs.edu
SUMMARY:Shelton State Terrific Tuesday Concert Series
DESCRIPTION:Shelton State’s Terrific Tuesday Concert Series is designed to showcase a variety of repertory styles. Weekly performances are offered by guest artists as well as Shelton State faculty and students.
URL:https://www.accs.edu/event/shelton-state-terrific-tuesday-concert-series/
LOCATION:Shelton State Community College Martin Campus Alabama Power Recital Hall\, 9500 Old Greensboro Road\, Tuscaloosa\, 35405
ATTACH;FMTTYPE=image/png:https://www.accs.edu/wp-content/uploads/2019/02/Terrific-Tuesday-1.png
ORGANIZER;CN="Shelton State Community College":MAILTO:mediacom@sheltonstate.edu
END:VEVENT
BEGIN:VEVENT
DTSTART;TZID=America/New_York:20200212T080000
DTEND;TZID=America/New_York:20200227T170000
DTSTAMP:20260422T131913
CREATED:20200213T175538Z
LAST-MODIFIED:20200213T175538Z
UID:56832-1581494400-1582822800@www.accs.edu
SUMMARY:CONNECTING THE HEART AND MIND
DESCRIPTION:We Appreciate You:  Students are invited to visit their campus Cardinal Tutoring Center during the month of February and receive a token of appreciation from the staff.  Wallace Drive Campus-Inzer Student Center Monday & Wednesday 8 am-4:30 pm or Tuesday & Thursday 8 am-5 pm; Ayers Campus Student Services Area Monday-Thursday 9 am – 5 pm; Cherokee Center Monday-Thursday 10 am – 4:30 pm.
URL:https://www.accs.edu/event/connecting-the-heart-and-mind/
LOCATION:Gadsden State Community College\, 1001 George Wallace Drive\, Gadsden\, 35903
ATTACH;FMTTYPE=image/jpeg:https://www.accs.edu/wp-content/uploads/2020/02/CTC-Feb20.jpg
ORGANIZER;CN="Gadsden State Community College":MAILTO:jedmondson@gadsdenstate.edu
END:VEVENT
BEGIN:VEVENT
DTSTART;TZID=America/New_York:20191106T080000
DTEND;TZID=America/New_York:20191106T170000
DTSTAMP:20260422T131913
CREATED:20191114T164956Z
LAST-MODIFIED:20191114T164956Z
UID:34788-1573027200-1573059600@www.accs.edu
SUMMARY:Cardinal Tutoring Center
DESCRIPTION:Cardinal Tutoring Center:  8 am – 5 pm\, Monday thru Thursday. Support offered by Advisement Resource Center\, TRiO\, Student Support Services and the Teaching & Learning Center.
URL:https://www.accs.edu/event/cardinal-tutoring-center/
LOCATION:Gadsden State Inzer Student Center\, 1001 George Wallace Drive\, Gadsden\, 35903
CATEGORIES:Student Events
ATTACH;FMTTYPE=image/jpeg:https://www.accs.edu/wp-content/uploads/2019/11/Cardinal-Tutoring-Center.jpg
ORGANIZER;CN="Gadsden State Community College":MAILTO:jedmondson@gadsdenstate.edu
END:VEVENT
BEGIN:VEVENT
DTSTART;TZID=UTC:20190219T080000
DTEND;TZID=UTC:20190219T170000
DTSTAMP:20260422T131913
CREATED:20190211T233436Z
LAST-MODIFIED:20190214T004126Z
UID:2307-1550563200-1550595600@www.accs.edu
SUMMARY:Fema Training
DESCRIPTION:Lawson State Nursing 202 and 203 students along with several faculty members will conduct FEMA training through the Center for Domestic Preparedness\, February 19th\, and 20th\, 2019.
URL:https://www.accs.edu/event/fema-training/
LOCATION:Lawson State Community College- Birmingham Campus\, 3060 Wilson Road\, S.W.\, Birmingham\, 35221
CATEGORIES:Community,Student Events
ATTACH;FMTTYPE=image/jpeg:https://www.accs.edu/wp-content/uploads/2019/01/Lawson-State-Button.jpg
ORGANIZER;CN="Lawson State Community College":MAILTO:InfoRequest@lscc.edu
END:VEVENT
BEGIN:VEVENT
DTSTART;VALUE=DATE:20190305
DTEND;VALUE=DATE:20190306
DTSTAMP:20260422T131913
CREATED:20190207T023853Z
LAST-MODIFIED:20190214T004126Z
UID:1920-1551744000-1551830399@www.accs.edu
SUMMARY:ACCC Basketball Tournament
DESCRIPTION:Lawson State will host for the third year\, the ACCC Basketball Tournament being held March 5-8\, 2019.
URL:https://www.accs.edu/event/accc-basketball-tournament/
LOCATION:Lawson State Community College-Birmingham Campus\, Arthur Shores Fine Arts Building\, 3060 Wilson Road\, S.W.\, Birmingham\, 35221
CATEGORIES:Sports
ATTACH;FMTTYPE=:
ORGANIZER;CN="Lawson State Community College":MAILTO:InfoRequest@lscc.edu
END:VEVENT
BEGIN:VEVENT
DTSTART;TZID=America/New_York:20191025T190000
DTEND;TZID=America/New_York:20191025T210000
DTSTAMP:20260422T131913
CREATED:20191114T165152Z
LAST-MODIFIED:20191114T165152Z
UID:31571-1572030000-1572037200@www.accs.edu
SUMMARY:Theatre Presents: Sherwood - The Adventures of Robin Hood
DESCRIPTION:For more information please contact Lauren Salerno\, 256.352.8422.
URL:https://www.accs.edu/event/theatre-presents-sherwood-the-adventures-of-robin-hood/
LOCATION:Wallace State Community College – Betty Leeth Haynes Theatre
CATEGORIES:Community,Student Events
ATTACH;FMTTYPE=image/png:https://www.accs.edu/wp-content/uploads/2019/10/lion_transparent-dark-bluel.png
ORGANIZER;CN="Wallace State Community College":MAILTO:kristen.holmes@wallacestate.edu
END:VEVENT
BEGIN:VEVENT
DTSTART;TZID=America/New_York:20200212T080000
DTEND;TZID=America/New_York:20200227T170000
DTSTAMP:20260422T131913
CREATED:20200213T175538Z
LAST-MODIFIED:20200213T175538Z
UID:56832-1581494400-1582822800@www.accs.edu
SUMMARY:CONNECTING THE HEART AND MIND
DESCRIPTION:We Appreciate You:  Students are invited to visit their campus Cardinal Tutoring Center during the month of February and receive a token of appreciation from the staff.  Wallace Drive Campus-Inzer Student Center Monday & Wednesday 8 am-4:30 pm or Tuesday & Thursday 8 am-5 pm; Ayers Campus Student Services Area Monday-Thursday 9 am – 5 pm; Cherokee Center Monday-Thursday 10 am – 4:30 pm.
URL:https://www.accs.edu/event/connecting-the-heart-and-mind/
LOCATION:Gadsden State Community College\, 1001 George Wallace Drive\, Gadsden\, 35903
ATTACH;FMTTYPE=image/jpeg:https://www.accs.edu/wp-content/uploads/2020/02/CTC-Feb20.jpg
ORGANIZER;CN="Gadsden State Community College":MAILTO:jedmondson@gadsdenstate.edu
END:VEVENT
BEGIN:VEVENT
DTSTART;TZID=America/New_York:20191106T080000
DTEND;TZID=America/New_York:20191106T170000
DTSTAMP:20260422T131913
CREATED:20191114T164956Z
LAST-MODIFIED:20191114T164956Z
UID:34788-1573027200-1573059600@www.accs.edu
SUMMARY:Cardinal Tutoring Center
DESCRIPTION:Cardinal Tutoring Center:  8 am – 5 pm\, Monday thru Thursday. Support offered by Advisement Resource Center\, TRiO\, Student Support Services and the Teaching & Learning Center.
URL:https://www.accs.edu/event/cardinal-tutoring-center/
LOCATION:Gadsden State Inzer Student Center\, 1001 George Wallace Drive\, Gadsden\, 35903
CATEGORIES:Student Events
ATTACH;FMTTYPE=image/jpeg:https://www.accs.edu/wp-content/uploads/2019/11/Cardinal-Tutoring-Center.jpg
ORGANIZER;CN="Gadsden State Community College":MAILTO:jedmondson@gadsdenstate.edu
END:VEVENT
BEGIN:VEVENT
DTSTART;TZID=America/New_York:20191025T190000
DTEND;TZID=America/New_York:20191025T210000
DTSTAMP:20260422T131913
CREATED:20191114T165152Z
LAST-MODIFIED:20191114T165152Z
UID:31571-1572030000-1572037200@www.accs.edu
SUMMARY:Theatre Presents: Sherwood - The Adventures of Robin Hood
DESCRIPTION:For more information please contact Lauren Salerno\, 256.352.8422.
URL:https://www.accs.edu/event/theatre-presents-sherwood-the-adventures-of-robin-hood/
LOCATION:Wallace State Community College – Betty Leeth Haynes Theatre
CATEGORIES:Community,Student Events
ATTACH;FMTTYPE=image/png:https://www.accs.edu/wp-content/uploads/2019/10/lion_transparent-dark-bluel.png
ORGANIZER;CN="Wallace State Community College":MAILTO:kristen.holmes@wallacestate.edu
END:VEVENT
BEGIN:VEVENT
DTSTART;TZID=America/New_York:20200212T080000
DTEND;TZID=America/New_York:20200227T170000
DTSTAMP:20260422T131913
CREATED:20200213T175538Z
LAST-MODIFIED:20200213T175538Z
UID:56832-1581494400-1582822800@www.accs.edu
SUMMARY:CONNECTING THE HEART AND MIND
DESCRIPTION:We Appreciate You:  Students are invited to visit their campus Cardinal Tutoring Center during the month of February and receive a token of appreciation from the staff.  Wallace Drive Campus-Inzer Student Center Monday & Wednesday 8 am-4:30 pm or Tuesday & Thursday 8 am-5 pm; Ayers Campus Student Services Area Monday-Thursday 9 am – 5 pm; Cherokee Center Monday-Thursday 10 am – 4:30 pm.
URL:https://www.accs.edu/event/connecting-the-heart-and-mind/
LOCATION:Gadsden State Community College\, 1001 George Wallace Drive\, Gadsden\, 35903
ATTACH;FMTTYPE=image/jpeg:https://www.accs.edu/wp-content/uploads/2020/02/CTC-Feb20.jpg
ORGANIZER;CN="Gadsden State Community College":MAILTO:jedmondson@gadsdenstate.edu
END:VEVENT
BEGIN:VEVENT
DTSTART;TZID=America/New_York:20191025T190000
DTEND;TZID=America/New_York:20191025T210000
DTSTAMP:20260422T131913
CREATED:20191114T165152Z
LAST-MODIFIED:20191114T165152Z
UID:31571-1572030000-1572037200@www.accs.edu
SUMMARY:Theatre Presents: Sherwood - The Adventures of Robin Hood
DESCRIPTION:For more information please contact Lauren Salerno\, 256.352.8422.
URL:https://www.accs.edu/event/theatre-presents-sherwood-the-adventures-of-robin-hood/
LOCATION:Wallace State Community College – Betty Leeth Haynes Theatre
CATEGORIES:Community,Student Events
ATTACH;FMTTYPE=image/png:https://www.accs.edu/wp-content/uploads/2019/10/lion_transparent-dark-bluel.png
ORGANIZER;CN="Wallace State Community College":MAILTO:kristen.holmes@wallacestate.edu
END:VEVENT
BEGIN:VEVENT
DTSTART;TZID=America/New_York:20200411T090000
DTEND;TZID=America/New_York:20200411T130000
DTSTAMP:20260422T131913
CREATED:20220218T235839Z
LAST-MODIFIED:20220218T235839Z
UID:64266-1586595600-1586610000@www.accs.edu
SUMMARY:SWOOP SPRINT 5k
DESCRIPTION:9 am on the Wallace Drive Campus\, sponsored by the Cardinal Foundation\, a support organization of Gadsden State\, and directed by Gadsden Runners Club. The Swoop Sprint 5k is a course registered in the GRC Grand Prix Series. Cash prizes will be awarded to the Top 3 overall male and female participants. 1st place -$100\, 2nd place – $50 3rd place – $25.  $25 cash prize for the best male and female who embodies the “Swoopiest Spirited” sprinter.   Preregistration fee is $25. Members of the Gadsden Runners Club\, Anniston Runners Club and Gadsden State students\, faculty or staff receive a $5 discount. Registration includes an electronic chipped timing bib\, goody bag\, pre-race snacks and finish line food. An official race day t-shirt is guaranteed if registered by April 3.  To register\, go to https://runsignup.com/Race/AL/Gadsden/SwoopSprint5K and find the Swoop Sprint 5k menu option. Or\, contact Brandy Hyatt at bhyatt@gadsdsdenstate.edu or 256-549-8247. For more information on sponsorships\, contact Jessica Brown at 256-549-8377 or email jmbrown@gadsdenstate.edu.
URL:https://www.accs.edu/event/swoop-sprint-5k/
LOCATION:Gadsden State Wallace Drive Campus\, 1001 George Wallace Drive\, Gadsden\, 35903
ATTACH;FMTTYPE=image/png:https://www.accs.edu/wp-content/uploads/2020/03/Swoop-Sprint.png
ORGANIZER;CN="Gadsden State Cardinal Foundation":MAILTO:jmbrown@gadsdenstate.edu
END:VEVENT
BEGIN:VEVENT
DTSTART;TZID=America/New_York:20200212T080000
DTEND;TZID=America/New_York:20200227T170000
DTSTAMP:20260422T131913
CREATED:20200213T175538Z
LAST-MODIFIED:20200213T175538Z
UID:56832-1581494400-1582822800@www.accs.edu
SUMMARY:CONNECTING THE HEART AND MIND
DESCRIPTION:We Appreciate You:  Students are invited to visit their campus Cardinal Tutoring Center during the month of February and receive a token of appreciation from the staff.  Wallace Drive Campus-Inzer Student Center Monday & Wednesday 8 am-4:30 pm or Tuesday & Thursday 8 am-5 pm; Ayers Campus Student Services Area Monday-Thursday 9 am – 5 pm; Cherokee Center Monday-Thursday 10 am – 4:30 pm.
URL:https://www.accs.edu/event/connecting-the-heart-and-mind/
LOCATION:Gadsden State Community College\, 1001 George Wallace Drive\, Gadsden\, 35903
ATTACH;FMTTYPE=image/jpeg:https://www.accs.edu/wp-content/uploads/2020/02/CTC-Feb20.jpg
ORGANIZER;CN="Gadsden State Community College":MAILTO:jedmondson@gadsdenstate.edu
END:VEVENT
BEGIN:VEVENT
DTSTART;TZID=America/New_York:20191025T190000
DTEND;TZID=America/New_York:20191025T210000
DTSTAMP:20260422T131913
CREATED:20191114T165152Z
LAST-MODIFIED:20191114T165152Z
UID:31571-1572030000-1572037200@www.accs.edu
SUMMARY:Theatre Presents: Sherwood - The Adventures of Robin Hood
DESCRIPTION:For more information please contact Lauren Salerno\, 256.352.8422.
URL:https://www.accs.edu/event/theatre-presents-sherwood-the-adventures-of-robin-hood/
LOCATION:Wallace State Community College – Betty Leeth Haynes Theatre
CATEGORIES:Community,Student Events
ATTACH;FMTTYPE=image/png:https://www.accs.edu/wp-content/uploads/2019/10/lion_transparent-dark-bluel.png
ORGANIZER;CN="Wallace State Community College":MAILTO:kristen.holmes@wallacestate.edu
END:VEVENT
BEGIN:VEVENT
DTSTART;TZID=America/New_York:20200212T080000
DTEND;TZID=America/New_York:20200227T170000
DTSTAMP:20260422T131913
CREATED:20200213T175538Z
LAST-MODIFIED:20200213T175538Z
UID:56832-1581494400-1582822800@www.accs.edu
SUMMARY:CONNECTING THE HEART AND MIND
DESCRIPTION:We Appreciate You:  Students are invited to visit their campus Cardinal Tutoring Center during the month of February and receive a token of appreciation from the staff.  Wallace Drive Campus-Inzer Student Center Monday & Wednesday 8 am-4:30 pm or Tuesday & Thursday 8 am-5 pm; Ayers Campus Student Services Area Monday-Thursday 9 am – 5 pm; Cherokee Center Monday-Thursday 10 am – 4:30 pm.
URL:https://www.accs.edu/event/connecting-the-heart-and-mind/
LOCATION:Gadsden State Community College\, 1001 George Wallace Drive\, Gadsden\, 35903
ATTACH;FMTTYPE=image/jpeg:https://www.accs.edu/wp-content/uploads/2020/02/CTC-Feb20.jpg
ORGANIZER;CN="Gadsden State Community College":MAILTO:jedmondson@gadsdenstate.edu
END:VEVENT
BEGIN:VEVENT
DTSTART;TZID=America/New_York:20191025T190000
DTEND;TZID=America/New_York:20191025T210000
DTSTAMP:20260422T131913
CREATED:20191114T165152Z
LAST-MODIFIED:20191114T165152Z
UID:31571-1572030000-1572037200@www.accs.edu
SUMMARY:Theatre Presents: Sherwood - The Adventures of Robin Hood
DESCRIPTION:For more information please contact Lauren Salerno\, 256.352.8422.
URL:https://www.accs.edu/event/theatre-presents-sherwood-the-adventures-of-robin-hood/
LOCATION:Wallace State Community College – Betty Leeth Haynes Theatre
CATEGORIES:Community,Student Events
ATTACH;FMTTYPE=image/png:https://www.accs.edu/wp-content/uploads/2019/10/lion_transparent-dark-bluel.png
ORGANIZER;CN="Wallace State Community College":MAILTO:kristen.holmes@wallacestate.edu
END:VEVENT
BEGIN:VEVENT
DTSTART;TZID=America/New_York:20200212T080000
DTEND;TZID=America/New_York:20200227T170000
DTSTAMP:20260422T131913
CREATED:20200213T175538Z
LAST-MODIFIED:20200213T175538Z
UID:56832-1581494400-1582822800@www.accs.edu
SUMMARY:CONNECTING THE HEART AND MIND
DESCRIPTION:We Appreciate You:  Students are invited to visit their campus Cardinal Tutoring Center during the month of February and receive a token of appreciation from the staff.  Wallace Drive Campus-Inzer Student Center Monday & Wednesday 8 am-4:30 pm or Tuesday & Thursday 8 am-5 pm; Ayers Campus Student Services Area Monday-Thursday 9 am – 5 pm; Cherokee Center Monday-Thursday 10 am – 4:30 pm.
URL:https://www.accs.edu/event/connecting-the-heart-and-mind/
LOCATION:Gadsden State Community College\, 1001 George Wallace Drive\, Gadsden\, 35903
ATTACH;FMTTYPE=image/jpeg:https://www.accs.edu/wp-content/uploads/2020/02/CTC-Feb20.jpg
ORGANIZER;CN="Gadsden State Community College":MAILTO:jedmondson@gadsdenstate.edu
END:VEVENT
BEGIN:VEVENT
DTSTART;TZID=America/New_York:20191106T080000
DTEND;TZID=America/New_York:20191106T170000
DTSTAMP:20260422T131913
CREATED:20191114T164956Z
LAST-MODIFIED:20191114T164956Z
UID:34788-1573027200-1573059600@www.accs.edu
SUMMARY:Cardinal Tutoring Center
DESCRIPTION:Cardinal Tutoring Center:  8 am – 5 pm\, Monday thru Thursday. Support offered by Advisement Resource Center\, TRiO\, Student Support Services and the Teaching & Learning Center.
URL:https://www.accs.edu/event/cardinal-tutoring-center/
LOCATION:Gadsden State Inzer Student Center\, 1001 George Wallace Drive\, Gadsden\, 35903
CATEGORIES:Student Events
ATTACH;FMTTYPE=image/jpeg:https://www.accs.edu/wp-content/uploads/2019/11/Cardinal-Tutoring-Center.jpg
ORGANIZER;CN="Gadsden State Community College":MAILTO:jedmondson@gadsdenstate.edu
END:VEVENT
BEGIN:VEVENT
DTSTART;VALUE=DATE:20190305
DTEND;VALUE=DATE:20190306
DTSTAMP:20260422T131913
CREATED:20190207T023853Z
LAST-MODIFIED:20190214T004126Z
UID:1920-1551744000-1551830399@www.accs.edu
SUMMARY:ACCC Basketball Tournament
DESCRIPTION:Lawson State will host for the third year\, the ACCC Basketball Tournament being held March 5-8\, 2019.
URL:https://www.accs.edu/event/accc-basketball-tournament/
LOCATION:Lawson State Community College-Birmingham Campus\, Arthur Shores Fine Arts Building\, 3060 Wilson Road\, S.W.\, Birmingham\, 35221
CATEGORIES:Sports
ATTACH;FMTTYPE=:
ORGANIZER;CN="Lawson State Community College":MAILTO:InfoRequest@lscc.edu
END:VEVENT
END:VCALENDAR