BEGIN:VCALENDAR
VERSION:2.0
PRODID:-//Alabama Community College System - ECPv6.15.10//NONSGML v1.0//EN
CALSCALE:GREGORIAN
METHOD:PUBLISH
X-WR-CALNAME:Alabama Community College System
X-ORIGINAL-URL:https://www.accs.edu
X-WR-CALDESC:Events for Alabama Community College System
REFRESH-INTERVAL;VALUE=DURATION:PT1H
X-Robots-Tag:noindex
X-PUBLISHED-TTL:PT1H
BEGIN:VTIMEZONE
TZID:America/Chicago
BEGIN:DAYLIGHT
TZOFFSETFROM:-0600
TZOFFSETTO:-0500
TZNAME:CDT
DTSTART:20220313T080000
END:DAYLIGHT
BEGIN:STANDARD
TZOFFSETFROM:-0500
TZOFFSETTO:-0600
TZNAME:CST
DTSTART:20221106T070000
END:STANDARD
BEGIN:DAYLIGHT
TZOFFSETFROM:-0600
TZOFFSETTO:-0500
TZNAME:CDT
DTSTART:20230312T080000
END:DAYLIGHT
BEGIN:STANDARD
TZOFFSETFROM:-0500
TZOFFSETTO:-0600
TZNAME:CST
DTSTART:20231105T070000
END:STANDARD
BEGIN:DAYLIGHT
TZOFFSETFROM:-0600
TZOFFSETTO:-0500
TZNAME:CDT
DTSTART:20240310T080000
END:DAYLIGHT
BEGIN:STANDARD
TZOFFSETFROM:-0500
TZOFFSETTO:-0600
TZNAME:CST
DTSTART:20241103T070000
END:STANDARD
END:VTIMEZONE
BEGIN:VTIMEZONE
TZID:America/New_York
BEGIN:DAYLIGHT
TZOFFSETFROM:-0500
TZOFFSETTO:-0400
TZNAME:EDT
DTSTART:20220313T070000
END:DAYLIGHT
BEGIN:STANDARD
TZOFFSETFROM:-0400
TZOFFSETTO:-0500
TZNAME:EST
DTSTART:20221106T060000
END:STANDARD
BEGIN:DAYLIGHT
TZOFFSETFROM:-0500
TZOFFSETTO:-0400
TZNAME:EDT
DTSTART:20230312T070000
END:DAYLIGHT
BEGIN:STANDARD
TZOFFSETFROM:-0400
TZOFFSETTO:-0500
TZNAME:EST
DTSTART:20231105T060000
END:STANDARD
BEGIN:DAYLIGHT
TZOFFSETFROM:-0500
TZOFFSETTO:-0400
TZNAME:EDT
DTSTART:20240310T070000
END:DAYLIGHT
BEGIN:STANDARD
TZOFFSETFROM:-0400
TZOFFSETTO:-0500
TZNAME:EST
DTSTART:20241103T060000
END:STANDARD
END:VTIMEZONE
BEGIN:VEVENT
DTSTART;TZID=America/Chicago:20231207T080000
DTEND;TZID=America/Chicago:20231207T170000
DTSTAMP:20260421T161446
CREATED:20230601T182050Z
LAST-MODIFIED:20230601T182050Z
UID:379179-1701936000-1701968400@www.accs.edu
SUMMARY:Winter Showcase
DESCRIPTION:WCCD’s Fine Arts Department presents the annual Winter Showcase\, an evening of musical entertainment by The Wallace Sound\, Concert Choir\, and Instrumental Ensemble.  \nFor more information: Savannah Granberry\, sgranberry@wallace.edu\, 334-556-2314 
URL:https://www.accs.edu/event/winter-showcase/
LOCATION:Wallace Community College – Dothan\, 1141 Wallace Drive\, Dothan\, 36303
CATEGORIES:Activities,Performance
END:VEVENT
BEGIN:VEVENT
DTSTART;TZID=America/Chicago:20231208T080000
DTEND;TZID=America/Chicago:20231208T120000
DTSTAMP:20260421T161446
CREATED:20240131T212516Z
LAST-MODIFIED:20240131T212516Z
UID:380385-1702022400-1702036800@www.accs.edu
SUMMARY:SSCC Athletics at West Alabama Food Bank
DESCRIPTION:Shelton State staff and athletes volunteered at the West Alabama Food Bank on Friday\, December 8.  They partnered with SSCC\, helping with our Food Pantry in efforts to decrease food insecurities\, and also several other resources for our students.
URL:https://www.accs.edu/event/sscc-athletics-at-west-alabama-food-bank/
CATEGORIES:Activities,Community Service
ORGANIZER;CN="Shelton State Community College":MAILTO:mediacom@sheltonstate.edu
END:VEVENT
BEGIN:VEVENT
DTSTART;TZID=America/New_York:20231213T100000
DTEND;TZID=America/New_York:20231213T102000
DTSTAMP:20260421T161446
CREATED:20221212T153551Z
LAST-MODIFIED:20231213T144228Z
UID:378170-1702461600-1702462800@www.accs.edu
SUMMARY:Board of Trustees Board Meeting
DESCRIPTION:The Alabama Community College System’s December 13\, 2023 Board of Trustees meeting and the Work Session will begin at the usual start time of 10:00 a.m. \nThe meeting will be live streamed via the ACCS YouTube channel at the following link:\nhttps://www.youtube.com/c/AlabamaCommunityCollegeSystem
URL:https://www.accs.edu/event/board-of-trustees-board-meeting-121323/
LOCATION:Alabama Community College System Center\, 135 South Union Street\, Montgomery\, AL 36104
CATEGORIES:Board of Trustees,Meetings
ATTACH;FMTTYPE=image/jpeg:https://www.accs.edu/wp-content/uploads/2019/01/ACCSBoardofTrusteesSeal.jpg
END:VEVENT
BEGIN:VEVENT
DTSTART;TZID=America/New_York:20231213T102000
DTEND;TZID=America/New_York:20231213T102000
DTSTAMP:20260421T161446
CREATED:20221212T153602Z
LAST-MODIFIED:20231213T144224Z
UID:378171-1702462800-1702462800@www.accs.edu
SUMMARY:Board of Trustees Work Session
DESCRIPTION:The Alabama Community College System’s December 13\, 2023 Board of Trustees meeting and the Work Session will begin at the usual start time of 10:00 a.m. \nThe meeting will be live streamed via the ACCS YouTube channel at the following link:\nhttps://www.youtube.com/c/AlabamaCommunityCollegeSystem
URL:https://www.accs.edu/event/board-of-trustees-work-session-121323/
LOCATION:Alabama Community College System Center\, 135 South Union Street\, Montgomery\, AL 36104
CATEGORIES:Board of Trustees,Work Sessions
ATTACH;FMTTYPE=image/jpeg:https://www.accs.edu/wp-content/uploads/2019/01/ACCSBoardofTrusteesSeal.jpg
END:VEVENT
BEGIN:VEVENT
DTSTART;TZID=America/Chicago:20231214T180000
DTEND;TZID=America/Chicago:20231214T200000
DTSTAMP:20260421T161446
CREATED:20231213T144223Z
LAST-MODIFIED:20231213T144223Z
UID:380181-1702576800-1702584000@www.accs.edu
SUMMARY:Christmas with the Cardinals
DESCRIPTION:A Cappella Choir & Singers\, GSCC Show Band Holiday Performance
URL:https://www.accs.edu/event/christmas-with-the-cardinals/
LOCATION:Wallace Hall Fine Arts Center\, 1001 George Wallace Dr\,\, Gadsden\, AL\, AL\, 35903\, United States
ORGANIZER;CN="Gadsden State Fine Arts Division":MAILTO:mleder@gadsdenstate.edu
END:VEVENT
BEGIN:VEVENT
DTSTART;TZID=America/Chicago:20231219T080000
DTEND;TZID=America/Chicago:20231219T170000
DTSTAMP:20260421T161446
CREATED:20231226T142134Z
LAST-MODIFIED:20231226T142134Z
UID:380232-1702972800-1703005200@www.accs.edu
SUMMARY:Worlds of Work
DESCRIPTION:The goal of Worlds of Work is to present a variety of career opportunities via hands on\, interactive activities across ten career worlds to students to help them make smart choices for their future and encourage them to stay in school.
URL:https://www.accs.edu/event/worlds-of-work-3/
LOCATION:Oxford Civic Center\, 401 Mc Cullars Ln\, Oxford\, AL\, 36203\, United States
END:VEVENT
BEGIN:VEVENT
DTSTART;TZID=America/Chicago:20231227T080000
DTEND;TZID=America/Chicago:20231227T170000
DTSTAMP:20260421T161446
CREATED:20231227T155502Z
LAST-MODIFIED:20231227T155502Z
UID:380259-1703664000-1703696400@www.accs.edu
SUMMARY:Adullam House
DESCRIPTION:Every year in December the college donates toys\, school supplies\, or monetary donations to the Adullam House in Wetumpka. In addition\, woodworking students select special projects to make each year for the children. In the past these projects have been children’s desks\, doll houses\, wooden cars\, trucks\, and more.
URL:https://www.accs.edu/event/adullam-house/
LOCATION:J. F. Ingram State Technical College\, 5375 Ingram Road\, Deatsville\, AL\, 36022\, United States
CATEGORIES:Activities,Community Service
END:VEVENT
END:VCALENDAR